BEGIN:VCALENDAR
VERSION:2.0
CALSCALE:GREGORIAN
PRODID:adamgibbons/ics
METHOD:PUBLISH
X-PUBLISHED-TTL:PT1H
BEGIN:VEVENT
UID:410@tucsontimeline.info
SUMMARY:Community Solidarity Quilt
DTSTAMP:20260425T140234Z
DTSTART:20251006T000000Z
DESCRIPTION:Join us to co-regulate after Saturday's protest for Gaza. Fundr
	aise for Nada\,\nour friend from Gaza. Strategize and ground our struggle 
	to the land and water.\nHeal in community. If you feel the call: Bring ext
	ra waterbottles\, food\, first\naid kits\, FTS test strips for our unhouse
	d neighbors at the park. 5pm at Santa\nRosa Park on Sunday\, October 5th.
URL:https://tucsontimeline.info/event/community-solidarity-quilt
LOCATION:Santa Rosa Park - 1055 S 10th Ave
STATUS:CONFIRMED
CATEGORIES:
X-ALT-DESC;FMTTYPE=text/html:<p>Join us to co-regulate after Saturday's pro
	test for Gaza. Fundraise for Nada, our friend from Gaza. Strategize and gr
	ound our struggle to the land and water. Heal in community. If you feel th
	e call: Bring extra waterbottles, food, first aid kits, FTS test strips fo
	r our unhoused neighbors at the park. 5pm at Santa Rosa Park on Sunday, Oc
	tober 5th. </p>
END:VEVENT
END:VCALENDAR
